BEGIN:VCALENDAR
VERSION:2.0
PRODID:-//Squarespace Inc/Squarespace 6//v6//EN
BEGIN:VEVENT
UID:56f080493c44d828f691753a@squarespace.com
DTSTAMP:20160321T233049Z
DTSTART:20160916T223000Z
DTEND:20160917T023000Z
SUMMARY:Spring Rhythm
END:VEVENT
END:VCALENDAR
