BEGIN:VCALENDAR
VERSION:2.0
PRODID:-//Squarespace Inc/Squarespace 6//v6//EN
BEGIN:VEVENT
UID:56f078d82b8dde9e9d892130@squarespace.com
DTSTAMP:20160321T225402Z
DTSTART:20160507T020000Z
DTEND:20160507T040000Z
SUMMARY:Nutrient Dense Herbs
END:VEVENT
END:VCALENDAR
