BEGIN:VCALENDAR
VERSION:2.0
PRODID:-//Squarespace Inc/Squarespace 6//v6//EN
BEGIN:VEVENT
UID:56f07c5d07eaa084a8ec0839@squarespace.com
DTSTAMP:20160803T050921Z
DTSTART:20160624T220000Z
DTEND:20160625T020000Z
SUMMARY:Winter Harmony
END:VEVENT
END:VCALENDAR
