BEGIN:VCALENDAR
VERSION:2.0
PRODID:-//Squarespace Inc/Squarespace 6//v6//EN
BEGIN:VEVENT
UID:56c290c2d210b85521c2269f@squarespace.com
DTSTAMP:20160706T051521Z
DTSTART:20160422T223000Z
DTEND:20160423T000000Z
SUMMARY:Letting Go of Summer - Drum Roll For Your Winter Immunity
END:VEVENT
END:VCALENDAR
