BEGIN:VCALENDAR
VERSION:2.0
PRODID:-//Squarespace Inc/Squarespace 6//v6//EN
BEGIN:VEVENT
UID:57de08e1e58c62e05ffb132c@squarespace.com
DTSTAMP:20160925T015821Z
DTSTART:20161029T202000Z
DTEND:20161030T030000Z
SUMMARY:Spring Retreat
END:VEVENT
END:VCALENDAR
